BEGIN:VCALENDAR
VERSION:2.0
PRODID:-//wp-events-plugin.com//7.2.2.1//EN
TZID:Europe/Berlin
X-WR-TIMEZONE:Europe/Berlin
BEGIN:VEVENT
UID:379@gew-brandenburg.de
DTSTART;TZID=Europe/Berlin:20260531T144500
DTEND;TZID=Europe/Berlin:20260531T154500
DTSTAMP:20260105T162522Z
URL:https://www.gew-brandenburg.de/veranstaltungen/senioren/
SUMMARY:SENIOREN -
DESCRIPTION:Eröffnung der Seniorenwoche (Montag)\n\ndt./poln. Akademie (Di
 enstag)\n\nAnmeldung bei\n\nBarbara Schwabe 0335/ 523845 oder Petra Schult
  0335/ 6802006
CATEGORIES:KV Frankfurt/Oder
END:VEVENT
BEGIN:VTIMEZONE
TZID:Europe/Berlin
X-LIC-LOCATION:Europe/Berlin
BEGIN:DAYLIGHT
DTSTART:20260329T030000
TZOFFSETFROM:+0100
TZOFFSETTO:+0200
TZNAME:CEST
END:DAYLIGHT
END:VTIMEZONE
END:VCALENDAR