BEGIN:VCALENDAR
VERSION:2.0
PRODID:-//wp-events-plugin.com//7.2.2.1//EN
TZID:Europe/Berlin
X-WR-TIMEZONE:Europe/Berlin
BEGIN:VEVENT
UID:170@gew-brandenburg.de
DTSTART;TZID=Europe/Berlin:20240523T160000
DTEND;TZID=Europe/Berlin:20240523T180000
DTSTAMP:20240506T141709Z
URL:https://www.gew-brandenburg.de/veranstaltungen/mitgliederversammlung-u
 nd-wahl/
SUMMARY:Mitgliederversammlung und Wahl
DESCRIPTION:Alle Mitglieder des GEW-Stadtverbandes Potsdam sind herzlich zu
 r Mitgliederversammlung mit anschließender Wahl des neuen Kreisvorstandes
  am 23. Mai 2024 im „Treffpunkt Freizeit“ eingeladen. Die Veranstaltun
 g beginnt um 16 Uhr mit Ausführungen des GEW-Landesvorsitzenden Günther 
 Fuchs zur bildungspolitischen Situation in Brandenburg und den daraus resu
 ltierenden Schwerpunkten der gewerkschaftlichen Arbeit. Anschließend sind
  fünf bis sieben Mitglieder für den neuen GEW-Kreisvorstand zu wählen. 
 Dafür benötigen wir eure Kandidatenvorschläge (mit Zustimmungserklärun
 g) bis zum 17. Mai 2024 schriftlich (Alleestraße 6a\, 14469 Potsdam) oder
  per E-Mail an potsdam@gew-brandenburg.de. Wir würden es begrüßen\, wen
 n sich Kandidat*innen aus allen Organisationsbereichen – Schule\, Sozial
 - und Erziehungsdienst\, Senior*innen – finden würden.\n\nWir bitten um
  eine kurze Anmeldung per E-Mail potsdam@gew-brandenburg.de\noder telefoni
 sch (03 31 271 84-0/-40) bis zum 17. Mai 2024.
CATEGORIES:KV Potsdam
LOCATION:Treffpunkt Feizeit Potsdam\, Am Neuen Garten 64\, Potsdam\, 14469\
 , Deutschland
X-APPLE-STRUCTURED-LOCATION;VALUE=URI;X-ADDRESS=Am Neuen Garten 64\, Potsda
 m\, 14469\, Deutschland;X-APPLE-RADIUS=100;X-TITLE=Treffpunkt Feizeit Pots
 dam:geo:0,0
END:VEVENT
BEGIN:VTIMEZONE
TZID:Europe/Berlin
X-LIC-LOCATION:Europe/Berlin
BEGIN:DAYLIGHT
DTSTART:20240331T030000
TZOFFSETFROM:+0100
TZOFFSETTO:+0200
TZNAME:CEST
END:DAYLIGHT
END:VTIMEZONE
END:VCALENDAR