BEGIN:VCALENDAR
VERSION:2.0
PRODID:-//wp-events-plugin.com//7.2.2.1//EN
TZID:Europe/Berlin
X-WR-TIMEZONE:Europe/Berlin
BEGIN:VEVENT
UID:387@gew-brandenburg.de
DTSTART;TZID=Europe/Berlin:20260422T090000
DTEND;TZID=Europe/Berlin:20260422T150000
DTSTAMP:20260121T081810Z
URL:https://www.gew-brandenburg.de/veranstaltungen/kreative-bewegte-mathem
 atik/
SUMMARY:Kreative bewegte Mathematik
DESCRIPTION:\n\nSeminarnummer 26/1‑GB-06I\n\n\nMathematik muss nicht stil
 l am Tisch stattfinden – sie kann bunt\, bewegt\, kreativ und lebendig s
 ein! In diesem Workshop entdecken Sie\, wie Kinder durch Bewegung und Fant
 asie spielerisch Muster\, Strukturen und Zusammenhänge erkunden.\n\nWas S
 ie erwartet:\n\n 	Einrichtung eines kreativen Mathe-Ateliers mit minimalem
  Aufwand\n 	Spielerische Impulse zur Zahlen- und Mengenerfassung\, Raum-La
 ge-Orientierung und Mustererkennung\n 	Gruppenarbeiten und bewegte Lernspi
 ele für Innen- und Außenbereich\n 	Mathematische Experimente mit Alltags
 materialien\n 	Reflexion: „Ist die Schulvorbereitung in meiner Kita ausr
 eichend?“\n 	Aktuelle Erkenntnisse der Hirnforschung zur frühen mathema
 tischen Bildung\n 	Einblicke\, worauf die Grundschule aufbaut – und welc
 he Kompetenzen Kinder idealerweise mitbringen\n\nDieser praxisorientierte 
 Workshop liefert Ihnen sofort umsetzbare Ideen für den Kita-Alltag: wenig
  Aufwand\, große Wirkung! Lassen Sie sich anstecken von der Freude an der
  Mathematik – und geben Sie diese Begeisterung an die Kinder weiter.\n\n
 \n\nKursleiter:\nCarola Piepiorra - Kinderkreativschule\n\n\nZielgruppe:\n
 \nErzieher*innen\n\n\nKosten:\nGEW-Mitglieder 30\,-€\,  Nichtmitglieder
  60\,-€\n\n\nAnmeldeschluss:\n15.04.2026\n\n\n\nHier geht’s zur Anmeld
 ung!\n\n
CATEGORIES:Kita &amp; Hort,Weiterbildung
LOCATION:Kita Kinderland Strausberg\, Garzauer Chaussee 1\, Strausberg\, 15
 344\, Deutschland
X-APPLE-STRUCTURED-LOCATION;VALUE=URI;X-ADDRESS=Garzauer Chaussee 1\, Strau
 sberg\, 15344\, Deutschland;X-APPLE-RADIUS=100;X-TITLE=Kita Kinderland Str
 ausberg:geo:0,0
END:VEVENT
BEGIN:VTIMEZONE
TZID:Europe/Berlin
X-LIC-LOCATION:Europe/Berlin
BEGIN:DAYLIGHT
DTSTART:20260329T030000
TZOFFSETFROM:+0100
TZOFFSETTO:+0200
TZNAME:CEST
END:DAYLIGHT
END:VTIMEZONE
END:VCALENDAR