BEGIN:VCALENDAR
VERSION:2.0
PRODID:-//wp-events-plugin.com//7.2.2.1//EN
TZID:Europe/Berlin
X-WR-TIMEZONE:Europe/Berlin
BEGIN:VEVENT
UID:79@gew-brandenburg.de
DTSTART;TZID=Europe/Berlin;VALUE=DATE:20240418
DTEND;TZID=Europe/Berlin;VALUE=DATE:20240419
DTSTAMP:20240116T122403Z
URL:https://www.gew-brandenburg.de/veranstaltungen/gew-senioren-4/
SUMMARY:GEW Senioren
DESCRIPTION:Wanderführung um die Booßener Teiche\n\nmit Werner Weiß\n\nB
 us 981 - 9.22 Uhr Zentrum / 9.45 Uhr Booßen\, Lebuser Weg\n\n&nbsp\;
CATEGORIES:KV Frankfurt/Oder
END:VEVENT
BEGIN:VTIMEZONE
TZID:Europe/Berlin
X-LIC-LOCATION:Europe/Berlin
BEGIN:DAYLIGHT
DTSTART:20240331T030000
TZOFFSETFROM:+0100
TZOFFSETTO:+0200
TZNAME:CEST
END:DAYLIGHT
END:VTIMEZONE
END:VCALENDAR